BEGIN:VCALENDAR
VERSION:2.0
PRODID:-//KERKLIED.NET - ECPv6.15.20//NONSGML v1.0//EN
CALSCALE:GREGORIAN
METHOD:PUBLISH
X-WR-CALNAME:KERKLIED.NET
X-ORIGINAL-URL:https://www.kerklied.net
X-WR-CALDESC:Evenementen voor KERKLIED.NET
REFRESH-INTERVAL;VALUE=DURATION:PT1H
X-Robots-Tag:noindex
X-PUBLISHED-TTL:PT1H
BEGIN:VTIMEZONE
TZID:Europe/Amsterdam
BEGIN:DAYLIGHT
TZOFFSETFROM:+0100
TZOFFSETTO:+0200
TZNAME:CEST
DTSTART:20200329T010000
END:DAYLIGHT
BEGIN:STANDARD
TZOFFSETFROM:+0200
TZOFFSETTO:+0100
TZNAME:CET
DTSTART:20201025T010000
END:STANDARD
BEGIN:DAYLIGHT
TZOFFSETFROM:+0100
TZOFFSETTO:+0200
TZNAME:CEST
DTSTART:20210328T010000
END:DAYLIGHT
BEGIN:STANDARD
TZOFFSETFROM:+0200
TZOFFSETTO:+0100
TZNAME:CET
DTSTART:20211031T010000
END:STANDARD
BEGIN:DAYLIGHT
TZOFFSETFROM:+0100
TZOFFSETTO:+0200
TZNAME:CEST
DTSTART:20220327T010000
END:DAYLIGHT
BEGIN:STANDARD
TZOFFSETFROM:+0200
TZOFFSETTO:+0100
TZNAME:CET
DTSTART:20221030T010000
END:STANDARD
END:VTIMEZONE
BEGIN:VEVENT
DTSTART;TZID=Europe/Amsterdam:20210312T133000
DTEND;TZID=Europe/Amsterdam:20210312T160000
DTSTAMP:20260422T221410
CREATED:20201005T045831Z
LAST-MODIFIED:20210212T171545Z
UID:1145-1615555800-1615564800@www.kerklied.net
SUMMARY:Bestuursvergadering ISK
DESCRIPTION:Bestuursvergadering ISK te Amersfoort (Bergkerk) of via Zoom
URL:https://www.kerklied.net/event/bestuursvergadering-isk/
LOCATION:Bergkerk Amersfoort
END:VEVENT
END:VCALENDAR