BEGIN:VCALENDAR
VERSION:2.0
PRODID:-//KERKLIED.NET - ECPv6.15.20//NONSGML v1.0//EN
CALSCALE:GREGORIAN
METHOD:PUBLISH
X-WR-CALNAME:KERKLIED.NET
X-ORIGINAL-URL:https://www.kerklied.net
X-WR-CALDESC:Evenementen voor KERKLIED.NET
REFRESH-INTERVAL;VALUE=DURATION:PT1H
X-Robots-Tag:noindex
X-PUBLISHED-TTL:PT1H
BEGIN:VTIMEZONE
TZID:Europe/Amsterdam
BEGIN:DAYLIGHT
TZOFFSETFROM:+0100
TZOFFSETTO:+0200
TZNAME:CEST
DTSTART:20210328T010000
END:DAYLIGHT
BEGIN:STANDARD
TZOFFSETFROM:+0200
TZOFFSETTO:+0100
TZNAME:CET
DTSTART:20211031T010000
END:STANDARD
BEGIN:DAYLIGHT
TZOFFSETFROM:+0100
TZOFFSETTO:+0200
TZNAME:CEST
DTSTART:20220327T010000
END:DAYLIGHT
BEGIN:STANDARD
TZOFFSETFROM:+0200
TZOFFSETTO:+0100
TZNAME:CET
DTSTART:20221030T010000
END:STANDARD
BEGIN:DAYLIGHT
TZOFFSETFROM:+0100
TZOFFSETTO:+0200
TZNAME:CEST
DTSTART:20230326T010000
END:DAYLIGHT
BEGIN:STANDARD
TZOFFSETFROM:+0200
TZOFFSETTO:+0100
TZNAME:CET
DTSTART:20231029T010000
END:STANDARD
BEGIN:DAYLIGHT
TZOFFSETFROM:+0100
TZOFFSETTO:+0200
TZNAME:CEST
DTSTART:20240331T010000
END:DAYLIGHT
BEGIN:STANDARD
TZOFFSETFROM:+0200
TZOFFSETTO:+0100
TZNAME:CET
DTSTART:20241027T010000
END:STANDARD
END:VTIMEZONE
BEGIN:VEVENT
DTSTART;TZID=Europe/Amsterdam:20231015T190000
DTEND;TZID=Europe/Amsterdam:20231015T210000
DTSTAMP:20260420T164237
CREATED:20230320T162752Z
LAST-MODIFIED:20230719T153523Z
UID:2978-1697396400-1697403600@www.kerklied.net
SUMMARY:Struinen door Psalmen anders - Dordrecht
DESCRIPTION:Psalmen worden op allerlei manieren tot klinken gebracht. Wie kennismaakt met een andere dan de vertrouwde praktijk ontdekt al snel hoe verrijkend dat is – het bekende is opeens verrassend nieuw.\nPsalmen anders. Aanvulling bij Liedboek maakt dit soort ontdekkingen mogelijk. \nWat heeft Psalmen anders te bieden? Wat kan jouw gemeente met Psalmen anders? Hoe pak je dat aan?\nOp de studieavond Struinen door Psalmen anders krijg je een goed beeld van de bundel\, de mogelijkheden de afstemming op de eigen context. \nDat gebeurt natuurlijk zingend\, onder leiding van Catrien Posthumus Meyjes en begeleid door Willeke Smits. De avond is bedoeld voor gemeenteleden\, muzikanten\, organisten\, voorgangers\, cantores\, zangleiders\, dirigenten en alle overige geïnteresseerden. \nKosten: vrijwillige bijdrage \nWaar en wanneer?                                                                                              Zondag 15 oktober 2023\, 19.00 uur\, Grote Kerk\, Lange Geldersekade 2\, Dordrecht                                                                                                                Zondag 29 oktober 2023\, 15.00 uur\, Kerk\, H.J.IJpenberglaan 31\, Elsendorp  Aanmelden: bureau@kerkzang.nl \nOok is het mogelijk de studiedag voor de eigen kerk of regio aan te\nvragen. Zie daarvoor: kerkzang.nl
URL:https://www.kerklied.net/event/struinen-7/
LOCATION:Grote Kerk Dordrecht\, Lange Geldersekade 2\, Dordrecht\, 3311 CJ
CATEGORIES:studiedag,zangdag
ATTACH;FMTTYPE=image/jpeg:https://www.kerklied.net/wp-content/uploads/2022/09/FlyerStruinen-e1662549081622.jpg
END:VEVENT
BEGIN:VEVENT
DTSTART;TZID=Europe/Amsterdam:20230923T143000
DTEND;TZID=Europe/Amsterdam:20230923T163000
DTSTAMP:20260420T164237
CREATED:20230508T090120Z
LAST-MODIFIED:20230719T153433Z
UID:3341-1695479400-1695486600@www.kerklied.net
SUMMARY:Struinen door Psalmen anders - Tricht
DESCRIPTION:Psalmen worden op allerlei manieren tot klinken gebracht. Wie kennismaakt met een andere dan de vertrouwde praktijk ontdekt al snel hoe verrijkend dat is – het bekende is opeens verrassend nieuw.\nPsalmen anders. Aanvulling bij Liedboek maakt dit soort ontdekkingen mogelijk. \nWat heeft Psalmen anders te bieden? Wat kan jouw gemeente met Psalmen anders? Hoe pak je dat aan?\nOp de studiemiddag Struinen door Psalmen anders krijg je een goed beeld van de bundel\, de mogelijkheden de afstemming op de eigen context. \nDat gebeurt natuurlijk zingend\, onder leiding van Catrien Posthumus Meyjes en begeleid door Willeke Smits. De avond is bedoeld voor gemeenteleden\, muzikanten\, organisten\, voorgangers\, cantores\, zangleiders\, dirigenten en alle overige geïnteresseerden. \nKosten: vrijwillige bijdrage \nWaar en wanneer?                                                                                              Zaterdag 23 september\, 14.30 uur\, Sint Pieterskerk\, Kerkstraat 6\, Tricht        Zondag 15 oktober 2023\, 19.00 uur\, Grote Kerk\, Lange Geldersekade 2\, Dordrecht                                                                                                                Zondag 29 oktober 2023\, 15.00 uur\, Kerk\, H.J.IJpenberglaan 31\, Elsendorp  Aanmelden: bureau@kerkzang.nl \nOok is het mogelijk de studiedag voor de eigen kerk of regio aan te\nvragen. Zie daarvoor: kerkzang.nl
URL:https://www.kerklied.net/event/struinen-7-copy/
LOCATION:Tricht\, Sint Pieterskerk\, Kerkstraat 6\, Tricht\, 6211 CZ\, Nederland
CATEGORIES:studiedag,zangdag
ATTACH;FMTTYPE=image/jpeg:https://www.kerklied.net/wp-content/uploads/2022/09/FlyerStruinen-e1662549081622.jpg
END:VEVENT
BEGIN:VEVENT
DTSTART;TZID=Europe/Amsterdam:20230513T103000
DTEND;TZID=Europe/Amsterdam:20230513T163000
DTSTAMP:20260420T164237
CREATED:20220830T003131Z
LAST-MODIFIED:20230420T132939Z
UID:1650-1683973800-1683995400@www.kerklied.net
SUMMARY:L I E D B O E K D A G - 2023 - A M E R S F O O R T - schatgraven in tien jaar Liedboek
DESCRIPTION:AANMELDEN \nDeze dag is voor een ieder die houdt van zingen en belangstelling heeft voor de vele mogelijkheden die het liedboek biedt aan liederen\, zangvormen\, gebeden\, teksten en gedichten. Bruikbaar voor kerkdiensten en niet te vergeten: andere leefkringen. Een dag voor cantores\, organisten\, componisten\, dichters\, predikanten\, pastores\, liturgen\, zangers\, voor een ieder die het Liedboek en zingend geloven een warm hart toedraagt.\nHet programma vraagt een actieve deelname. Er zal onder professionele begeleiding gezongen worden dat het een lieve lust is. Bekende en onderbelicht gebleven liederen uit het Liedboek komen aan bod. We verkennen tevens liederen uit de vorig jaar verschenen aanvulling Psalmen anders. U krijgt relevante achtergrondinformatie bij de liederen. Er klinken verschillende mogelijkheden in muzikale uitvoeringen\, van klassiek tot jazz. In totaal passeren zo’n 25 liederen en teksten de revue.\nDe dag wordt om 16.00 uur afgesloten met een vesper.\nDe dag kent drie programmaonderdelen met tussendoor twee pauzes van een half uur en een pauze van een uur. De kosten voor koffie en thee zijn bij de prijs inbegrepen\, die voor de lunch niet. In de buurt van de Sint Joriskerk zijn er volop lunchmogelijkheden.\nIn de kerk zijn verschillende uitgeverijen en boekhandels aanwezig met relevante uitgaven.
URL:https://www.kerklied.net/event/liedboekdag-amersfoort/
LOCATION:Sint Joriskerk\, Hof 1\, Amersfoort\, 3811 CJ
CATEGORIES:liedboekdag,studiedag,zangdag
ATTACH;FMTTYPE=image/jpeg:https://www.kerklied.net/wp-content/uploads/2022/08/Lieddag2023FlyerWeb.jpg
END:VEVENT
BEGIN:VEVENT
DTSTART;TZID=Europe/Amsterdam:20230312T150000
DTEND;TZID=Europe/Amsterdam:20230312T170000
DTSTAMP:20260420T164237
CREATED:20221221T211648Z
LAST-MODIFIED:20230321T060701Z
UID:2582-1678633200-1678640400@www.kerklied.net
SUMMARY:Struinen door Psalmen anders - Ede
DESCRIPTION:Psalmen worden op allerlei manieren tot klinken gebracht. Wie kennismaakt met een andere dan de vertrouwde praktijk ontdekt al snel hoe verrijkend dat is – het bekende is opeens verrassend nieuw.\nPsalmen anders. Aanvulling bij Liedboek maakt dit soort ontdekkingen mogelijk. \nWat heeft Psalmen anders te bieden? Wat kan jouw gemeente met Psalmen anders? Hoe pak je dat aan?\nOp de studieavond Struinen door Psalmen anders krijg je een goed beeld van de bundel\, de mogelijkheden de afstemming op de eigen context. \nDat gebeurt natuurlijk zingend\, onder leiding van Catrien Posthumus Meyjes en begeleid door Willeke Smits. De avond is bedoeld voor gemeenteleden\, muzikanten\, organisten\, voorgangers\, cantores\, zangleiders\, dirigenten en alle overige geïnteresseerden. \nWaar en wanneer?                                                                                              Zondag 12 maart 2023\, 15.00 uur\, Noorderkerk\, Amsterdamseweg 7\, Ede Zaterdag 25 maart 2023\, xx.xx uur\, Open Haven\, Kerkplein 8\, Zeewolde        Zondag 15 oktober 2023\, 19.00 uur\, Grote Kerk\, Lange Geldersekade 2\, Dordrecht                                                                                                                Zondag 29 oktober 2023\, 15.00 uur\, Kerk\, H.J.IJpenberglaan 31\, Elsendorp    Aanmelden: bureau@kerkzang.nl \nOok is het mogelijk de studiedag voor de eigen kerk of regio aan te\nvragen. Zie daarvoor: kerkzang.nl
URL:https://www.kerklied.net/event/struinen-5/
LOCATION:Noorderkerk\, Amsterdamseweg 7\, Ede\, 6711 BE
CATEGORIES:studiedag,zangdag
ATTACH;FMTTYPE=image/jpeg:https://www.kerklied.net/wp-content/uploads/2022/09/FlyerStruinen-e1662549081622.jpg
END:VEVENT
BEGIN:VEVENT
DTSTART;TZID=Europe/Amsterdam:20230113T193000
DTEND;TZID=Europe/Amsterdam:20230113T220000
DTSTAMP:20260420T164237
CREATED:20221221T194911Z
LAST-MODIFIED:20230321T060546Z
UID:2556-1673638200-1673647200@www.kerklied.net
SUMMARY:Struinen door Psalmen anders - Groningen
DESCRIPTION:Psalmen worden op allerlei manieren tot klinken gebracht. Wie kennismaakt met een andere dan de vertrouwde praktijk ontdekt al snel hoe verrijkend dat is – het bekende is opeens verrassend nieuw.\nPsalmen anders. Aanvulling bij Liedboek maakt dit soort ontdekkingen mogelijk. \nWat heeft Psalmen anders te bieden? Wat kan jouw gemeente met Psalmen anders? Hoe pak je dat aan?\nOp de studieavond Struinen door Psalmen anders krijg je een goed beeld van de bundel\, de mogelijkheden de afstemming op de eigen context. \nDat gebeurt natuurlijk zingend\, onder leiding van Catrien Posthumus Meyjes en begeleid door Willeke Smits. De avond is bedoeld voor gemeenteleden\, muzikanten\, organisten\, voorgangers\, cantores\, zangleiders\, dirigenten en alle overige geïnteresseerden. \nWaar en wanneer?                                                                                              Vrijdag 13 januari 2023\, 19.30 uur\, Remonstrantse Kerk\, Coehoornsingel 14\, Groningen                                                                                                                Zondag 12 maart 2023\, 15.00 uur\, Noorderkerk\, Amsterdamseweg 7\, Ede Zaterdag 25 maart 2023\, xx.xx uur\, Open Haven\, Kerkplein 8\, Zeewolde        Zondag 15 oktober 2023\, 19.00 uur\, Grote Kerk\, Lange Geldersekade 2\, Dordrecht                                                                                                                Zondag 29 oktober 2023\, 15.00 uur\, Kerk\, H.J.IJpenberglaan 31\, Elsendorp    Aanmelden: bureau@kerkzang.nl \nOok is het mogelijk de studiedag voor de eigen kerk of regio aan te\nvragen. Zie daarvoor: kerkzang.nl
URL:https://www.kerklied.net/event/struinen-4/
LOCATION:Remonstrantse Kerk\, Coehoornsingel 14\, Groningen\, 9711 BS
CATEGORIES:studiedag,zangdag
ATTACH;FMTTYPE=image/jpeg:https://www.kerklied.net/wp-content/uploads/2022/09/FlyerStruinen-e1662549081622.jpg
END:VEVENT
BEGIN:VEVENT
DTSTART;TZID=Europe/Amsterdam:20221110T193000
DTEND;TZID=Europe/Amsterdam:20221110T220000
DTSTAMP:20260420T164237
CREATED:20221221T194830Z
LAST-MODIFIED:20230321T060403Z
UID:2555-1668108600-1668117600@www.kerklied.net
SUMMARY:Struinen door Psalmen anders - Leiden
DESCRIPTION:Psalmen worden op allerlei manieren tot klinken gebracht. Wie kennismaakt met een andere dan de vertrouwde praktijk ontdekt al snel hoe verrijkend dat is – het bekende is opeens verrassend nieuw.\nPsalmen anders. Aanvulling bij Liedboek maakt dit soort ontdekkingen mogelijk. \nWat heeft Psalmen anders te bieden? Wat kan jouw gemeente met Psalmen anders? Hoe pak je dat aan?\nOp de studieavond Struinen door Psalmen anders krijg je een goed beeld van de bundel\, de mogelijkheden de afstemming op de eigen context. \nDat gebeurt natuurlijk zingend\, onder leiding van Catrien Posthumus Meyjes en begeleid door Willeke Smits. De avond is bedoeld voor gemeenteleden\, muzikanten\, organisten\, voorgangers\, cantores\, zangleiders\, dirigenten en alle overige geïnteresseerden. \nWaar en wanneer?                                                                                              Donderdag 10 november 2022\, 19.30 uur\, Hooglandse Kerk\, Nieuwstraat 20\, Leiden                                                                                                                  |  Aanmelden: bureau@kerkzang.nl \nOok is het mogelijk de studiedag voor de eigen kerk of regio aan te\nvragen. Zie daarvoor: kerkzang.nl
URL:https://www.kerklied.net/event/struinen-3/
LOCATION:Hooglandse Kerk\, Nieuwstraat 20\, Leiden\, 2312 KC
CATEGORIES:studiedag,zangdag
ATTACH;FMTTYPE=image/jpeg:https://www.kerklied.net/wp-content/uploads/2022/09/FlyerStruinen-e1662549081622.jpg
END:VEVENT
BEGIN:VEVENT
DTSTART;TZID=Europe/Amsterdam:20221007T193000
DTEND;TZID=Europe/Amsterdam:20221007T220000
DTSTAMP:20260420T164237
CREATED:20220907T100825Z
LAST-MODIFIED:20230321T060312Z
UID:2451-1665171000-1665180000@www.kerklied.net
SUMMARY:Struinen door Psalmen anders - Zwartsluis
DESCRIPTION:Psalmen worden op allerlei manieren tot klinken gebracht. Wie kennismaakt met een andere dan de vertrouwde praktijk ontdekt al snel hoe verrijkend dat is – het bekende is opeens verrassend nieuw.\nPsalmen anders. Aanvulling bij Liedboek maakt dit soort ontdekkingen mogelijk. \nWat heeft Psalmen anders te bieden? Wat kan jouw gemeente met Psalmen anders? Hoe pak je dat aan?\nOp de studieavond Struinen door Psalmen anders krijg je een goed beeld van de bundel\, de mogelijkheden de afstemming op de eigen context. \nDat gebeurt natuurlijk zingend\, onder leiding van Catrien Posthumus Meyjes en begeleid door Willeke Smits. De avond is bedoeld voor gemeenteleden\, muzikanten\, organisten\, voorgangers\, cantores\, zangleiders\, dirigenten en alle overige geïnteresseerden. \nWaar en wanneer?                                                                                              Vrijdag 7 oktober 2022\, 19.30 uur\,  Geref. Kerk Vrijgemaakt\, Zwartsluis        Aanmelden: bureau@kerkzang.nl \nOok is het mogelijk de studiedag voor de eigen kerk of regio aan te\nvragen. Zie daarvoor: kerkzang.nl
URL:https://www.kerklied.net/event/struinen-2/
LOCATION:Gereformeerde Kerk Vrijgemaakt\, Zwartsluis\, Zomerdijk 7\, Zwartsluis\, 8064 XA
CATEGORIES:studiedag,zangdag
ATTACH;FMTTYPE=image/jpeg:https://www.kerklied.net/wp-content/uploads/2022/09/FlyerStruinen-e1662549081622.jpg
END:VEVENT
BEGIN:VEVENT
DTSTART;TZID=Europe/Amsterdam:20220610T103000
DTEND;TZID=Europe/Amsterdam:20220610T150000
DTSTAMP:20260420T164237
CREATED:20220830T000901Z
LAST-MODIFIED:20230321T060238Z
UID:1644-1654857000-1654873200@www.kerklied.net
SUMMARY:Struinen door Psalmen anders - Amersfoort
DESCRIPTION:Psalmen worden op allerlei manieren tot klinken gebracht. Wie kennismaakt met een andere dan de vertrouwde praktijk ontdekt al snel hoe verrijkend dat is – het bekende is opeens verrassend nieuw.\nPsalmen anders. Aanvulling bij Liedboek maakt dit soort ontdekkingen mogelijk. \nWat heeft Psalmen anders te bieden? Wat kan jouw gemeente met Psalmen anders? Hoe pak je dat aan?\nOp de studiedag Struinen door Psalmen anders\, krijg je een exclusief inkijkje in de bundel en praktische toerusting met oog op de eigen context. \nWe zien u graag komen want wat is er fijner dan samen zingen en te ontdekken hoe je dat ook met anderen ook doen!\nDe dag is bedoeld voor voorgangers\, cantores\, zangleiders\, dirigenten\, gemeenteleden\, organisten\, muzikanten. \nDatum\, plaats en tijd: Fonteinkerk\, Robert Kochstraat 4\, 3817 JM Amersfoort | vrijdag 10 juni\, 10.30-15.00 uur\nPrijs: € 25\,00 | Aanmelden: bureau@kerkzang.nl \nDe studiedag wordt na de zomer bij voldoende belangstelling op verschillende plaatsen in het land herhaald: Enschede (medio september)\, Barendrecht (medio november)\, Leiden (medio november)\, Groningen (medio januari)\, Den Bosch (medio februari). \nOok is het mogelijk de studiedag voor de eigen kerk of regio aan te\nvragen. Zie daarvoor: www.kerkzang.nl
URL:https://www.kerklied.net/event/struinen-1/
LOCATION:Fonteinkerk\, Robert Kochstraat 4\, Amersfoort\, 3817 JM
CATEGORIES:studiedag,zangdag
ATTACH;FMTTYPE=image/jpeg:https://www.kerklied.net/wp-content/uploads/2022/08/Flyer-Struinen-door-Psalmen-anders1.jpg
END:VEVENT
END:VCALENDAR