BEGIN:VCALENDAR
VERSION:2.0
PRODID:-//KERKLIED.NET - ECPv6.15.20//NONSGML v1.0//EN
CALSCALE:GREGORIAN
METHOD:PUBLISH
X-WR-CALNAME:KERKLIED.NET
X-ORIGINAL-URL:https://www.kerklied.net
X-WR-CALDESC:Evenementen voor KERKLIED.NET
REFRESH-INTERVAL;VALUE=DURATION:PT1H
X-Robots-Tag:noindex
X-PUBLISHED-TTL:PT1H
BEGIN:VTIMEZONE
TZID:Europe/Amsterdam
BEGIN:DAYLIGHT
TZOFFSETFROM:+0100
TZOFFSETTO:+0200
TZNAME:CEST
DTSTART:20200329T010000
END:DAYLIGHT
BEGIN:STANDARD
TZOFFSETFROM:+0200
TZOFFSETTO:+0100
TZNAME:CET
DTSTART:20201025T010000
END:STANDARD
BEGIN:DAYLIGHT
TZOFFSETFROM:+0100
TZOFFSETTO:+0200
TZNAME:CEST
DTSTART:20210328T010000
END:DAYLIGHT
BEGIN:STANDARD
TZOFFSETFROM:+0200
TZOFFSETTO:+0100
TZNAME:CET
DTSTART:20211031T010000
END:STANDARD
BEGIN:DAYLIGHT
TZOFFSETFROM:+0100
TZOFFSETTO:+0200
TZNAME:CEST
DTSTART:20220327T010000
END:DAYLIGHT
BEGIN:STANDARD
TZOFFSETFROM:+0200
TZOFFSETTO:+0100
TZNAME:CET
DTSTART:20221030T010000
END:STANDARD
END:VTIMEZONE
BEGIN:VEVENT
DTSTART;TZID=Europe/Amsterdam:20211119T133000
DTEND;TZID=Europe/Amsterdam:20211119T170000
DTSTAMP:20260422T170558
CREATED:20201006T143957Z
LAST-MODIFIED:20220829T235034Z
UID:1151-1637328600-1637341200@www.kerklied.net
SUMMARY:Uit welke bundels zingt men in kerkelijk Nederland?
DESCRIPTION:Welke muziekbundels zijn er in de Nederlandse kerken in gebruik?\nHoe wordt de samenzang begeleid?\nWat is er de afgelopen tien jaar veranderd en hoeveel discussie geeft dat?\nHanna Rijken presenteert deze middag haar onderzoek. \nOnderzoek\nIn 2013 verscheen het Liedboek\, zingen en bidden in huis en kerk.\nKort daarop verschenen diverse andere liedbundels\, zoals Hemelhoog\, Weerklank en Zangen voor zoeken en zien.\nIn een interview in het Nederlands Dagblad stelde journalist Wim Houtman aan liturgiewetenschapper dr. Hanna Rijken de vraag hoe de verschillende bundels ingang hebben gevonden of zouden vinden in kerkelijk Nederland.\nDat bracht hen op het idee tot het opzetten van een Kerkmuziek Onderzoek Nederland. \nBijna 600 gemeentes en parochies uit de volle breedte van kerkelijk Nederland deden mee aan het onderzoek.\nHet plan was dat de onderzoeksresultaten op 2 oktober 2020 door dr. Hanna Rijken gepresenteerd zouden worden.\nDe maatregelen voor de bestrijding van het Covid-19-virus hebben dit verhinderd.\nOok de verplaatsingen naar 5 maart en 8 oktober 2021 werd tenietgedaan door de Covid-maatregelen.\nDeze bijeenkomst is nu (voorlopig) verplaatst naar 19 november 2021. \nWat u deze middag kunt verwachten? \nEen presentatie van de onderzoeksgegevens\, muziek\, reacties van deskundigen uit diverse hoeken van het kerkelijk landschap en discussie met de zaal. \nDe organisatie van deze middag is in handen van de PThU en het Nederlands Dagblad. \nPraktische informatie\nDatum: 19 november 2021\nTijd: 14.00 – 16.00 uur\, inloop is vanaf 13.30 uur\nLocatie: Nieuwe Kerk\, Leusderweg 110\, Amersfoort\nKosten: € 10\,- per persoon\, studenten betalen € 7\,50. \nOp dit moment is het niet mogelijk om u aan te melden voor deze bijeenkomst.\nU kunt wel op de informatielijst geplaatst worden.\nStuur hiervoor een e-mail naar communicatie @ pthu.nl (gelieve de spaties in het e-mailadres weg te laten).
URL:https://www.kerklied.net/event/uit-welke-bundels-zingt-men-in-kerkelijk-nederland/
LOCATION:Nieuwe Kerk\, Leusderweg 110\, Amersfoort\, 3817 KD\, Nederland
CATEGORIES:studiedag
ORGANIZER;CN="PThU":MAILTO:communicatie@pthu.nl
END:VEVENT
END:VCALENDAR